BEGIN:VCALENDAR
VERSION:2.0
PRODID:-// - ECPv6.15.20//NONSGML v1.0//EN
CALSCALE:GREGORIAN
METHOD:PUBLISH
X-ORIGINAL-URL:https://ewb-oc.org
X-WR-CALDESC:Events for 
REFRESH-INTERVAL;VALUE=DURATION:PT1H
X-Robots-Tag:noindex
X-PUBLISHED-TTL:PT1H
BEGIN:VTIMEZONE
TZID:UTC
BEGIN:STANDARD
TZOFFSETFROM:+0000
TZOFFSETTO:+0000
TZNAME:UTC
DTSTART:20230101T000000
END:STANDARD
END:VTIMEZONE
BEGIN:VEVENT
DTSTART;TZID=UTC:20251108T000000
DTEND;TZID=UTC:20251108T235959
DTSTAMP:20260424T155442
CREATED:20250925T225146Z
LAST-MODIFIED:20250925T225959Z
UID:1398-1762560000-1762646399@ewb-oc.org
SUMMARY:Corporate Cup Challenge 2025 @ 8:30 a.m.
DESCRIPTION:
URL:https://ewb-oc.org/event/corporate-cup-challenge-2025/
LOCATION:Santiago Park\, 600 E Memory Ln\, Santa Ana\, 92705\, United States
END:VEVENT
BEGIN:VEVENT
DTSTART;TZID=UTC:20250913T000000
DTEND;TZID=UTC:20250913T235959
DTSTAMP:20260424T155442
CREATED:20250718T193317Z
LAST-MODIFIED:20250718T193346Z
UID:1240-1757721600-1757807999@ewb-oc.org
SUMMARY:Santiago Park Clean-Up & Restoration
DESCRIPTION:
URL:https://ewb-oc.org/event/1240/
LOCATION:Santiago Park\, 600 E Memory Ln\, Santa Ana\, 92705\, United States
END:VEVENT
BEGIN:VEVENT
DTSTART;TZID=UTC:20241019T000000
DTEND;TZID=UTC:20241019T235959
DTSTAMP:20260424T155442
CREATED:20240625T204950Z
LAST-MODIFIED:20240916T212938Z
UID:641-1729296000-1729382399@ewb-oc.org
SUMMARY:Corazon Build
DESCRIPTION:  \nCLICK HERE TO SIGN UP
URL:https://ewb-oc.org/event/corazon-build/
END:VEVENT
BEGIN:VEVENT
DTSTART;TZID=UTC:20241005T000000
DTEND;TZID=UTC:20241005T235959
DTSTAMP:20260424T155442
CREATED:20240625T204903Z
LAST-MODIFIED:20240916T212522Z
UID:639-1728086400-1728172799@ewb-oc.org
SUMMARY:Corporate Cup Challenge
DESCRIPTION:CLICK HERE TO SIGN UP
URL:https://ewb-oc.org/event/corporate-cup-challenge/
END:VEVENT
BEGIN:VEVENT
DTSTART;TZID=UTC:20240918T000000
DTEND;TZID=UTC:20240918T235959
DTSTAMP:20260424T155442
CREATED:20240625T204755Z
LAST-MODIFIED:20240916T212551Z
UID:636-1726617600-1726703999@ewb-oc.org
SUMMARY:Open Board Meeting
DESCRIPTION:Click here to register IN-PERSON \nClick here to register VIRTUALLY
URL:https://ewb-oc.org/event/open-board-meeting/
END:VEVENT
END:VCALENDAR